BEGIN:VCALENDAR
VERSION:2.0
PRODID:-//wp-events-plugin.com//7.2.3.1//EN
BEGIN:VEVENT
UID:213@code4outdoor.org
DTSTART:20251102T140000Z
DTEND:20251102T160000Z
DTSTAMP:20251002T173841Z
URL:https://www.code4outdoor.org/events/pickleball/
SUMMARY:Pickleball Time!
DESCRIPTION:Grab your paddles\, it’s pickleball time! \n\nCome join us on
  Sunday\, November 2nd at 2:00 PM at Peak Pickleball for an afternoon on t
 he courts. No matter your skill level—pro\, beginner\, or somewhere in b
 etween\, you’re welcome to jump in and play.\n\nWe’re excited to kick 
 off Fall pickleball\, and Code4Outdoor would love for you to be part of it
 . Shoot us a quick “I’m in!” if you can make it. We have paddles and
  pickleballs for you to use. See you out there!
ATTACH;FMTTYPE=image/jpeg:https://www.code4outdoor.org/wp-content/uploads/
 2025/10/Pickleball-peak-pdf.jpg
CATEGORIES:Pickleball
LOCATION:Peak Pickleball\, 1730 Briargate Blvd.\, Colorado Springs\, CO\, 8
 0920\, United States
X-APPLE-STRUCTURED-LOCATION;VALUE=URI;X-ADDRESS=1730 Briargate Blvd.\, Colo
 rado Springs\, CO\, 80920\, United States;X-APPLE-RADIUS=100;X-TITLE=Peak 
 Pickleball:geo:0,0
END:VEVENT
END:VCALENDAR