BEGIN:VCALENDAR
VERSION:2.0
PRODID:-//wp-events-plugin.com//7.2.3.1//EN
BEGIN:VEVENT
UID:200@code4outdoor.org
DTSTART:20250525T230000Z
DTEND:20250526T010000Z
DTSTAMP:20250401T220016Z
URL:https://www.code4outdoor.org/events/pickleball-peak-pickleball-2/
SUMMARY:Pickleball-Peak Pickleball
DESCRIPTION:Who’s ready for some pickleball?\nNow’s your chance! Join u
 s Sunday\, May 25th\, at 3:00 PM at Peak Pickleball for some fun on the co
 urt. Whether you’re a seasoned player or totally new to the game\, come 
 out and play!\nWe’re pumped to bring pickleball to Code4Outdoor\, and we
  don’t want you to miss out. Let us know if you’re in—we can’t wai
 t to see you there!
ATTACH;FMTTYPE=image/jpeg:https://www.code4outdoor.org/wp-content/uploads/
 2025/01/Peak-Pickleball.jpg
CATEGORIES:Pickleball
LOCATION:Peak Pickleball\, 1730 Briargate Blvd.\, Colorado Springs\, CO\, 8
 0920\, United States
X-APPLE-STRUCTURED-LOCATION;VALUE=URI;X-ADDRESS=1730 Briargate Blvd.\, Colo
 rado Springs\, CO\, 80920\, United States;X-APPLE-RADIUS=100;X-TITLE=Peak 
 Pickleball:geo:0,0
END:VEVENT
END:VCALENDAR