BEGIN:VCALENDAR
VERSION:2.0
PRODID:-//wp-events-plugin.com//7.2.3.1//EN
BEGIN:VEVENT
UID:252@code4outdoor.org
DTSTART:20260513T180000Z
DTEND:20260513T200000Z
DTSTAMP:20260407T213704Z
URL:https://www.code4outdoor.org/events/mountain-bike-ride-pulpit-rock-ope
 n-space/
SUMMARY:Mountain Bike Ride-Pulpit Rock Open Space
DESCRIPTION:Pulpit Rock is an incredible place to ride\, and it's right in 
 our own back yard!  The route is 7.5 miles with approximately 900 feet of 
 climbing.  Great for intermediate and above.  Let us know and we will look
  forward to riding with you!
ATTACH;FMTTYPE=image/jpeg:https://www.code4outdoor.org/wp-content/uploads/
 2026/04/pulpit-pdf.jpg
CATEGORIES:Mountain Biking
END:VEVENT
END:VCALENDAR