BEGIN:VCALENDAR
VERSION:2.0
PRODID:-//wp-events-plugin.com//7.2.3.1//EN
BEGIN:VEVENT
UID:207@code4outdoor.org
DTSTART:20250521T170000Z
DTEND:20250521T190000Z
DTSTAMP:20250402T000452Z
URL:https://www.code4outdoor.org/events/mountain-bike-ride-falcon-trail-lo
 op-7/
SUMMARY:Mountain Bike Ride-Falcon Trail Loop
DESCRIPTION:This is an incredible ride through the heart of the Air Force A
 cademy!  The loop is 13.6 miles with 1\,500 feet of elevation gain.  Arg
 uably some of the best single track in the Colorado Springs area!  Plenty
  of uphill and downhill to enjoy!  Bring a picture ID to get onto the Aca
 demy\, (North Entrance).  Here is a link to the Falcon Trail Loop\, show
 ing where the ride will start and end.  Hope to see you there!\n\nDifficu
 lty rating:  Intermediate\n\nShoot us a text if you’re interested in g
 oing and we’ll be looking for you!  719-367-0112
ATTACH;FMTTYPE=image/jpeg:https://www.code4outdoor.org/wp-content/uploads/
 2025/04/falcon-trail-pdf.jpg
CATEGORIES:Mountain Biking
END:VEVENT
END:VCALENDAR