BEGIN:VCALENDAR
VERSION:2.0
PRODID:-//wp-events-plugin.com//7.2.3.1//EN
BEGIN:VEVENT
UID:114@code4outdoor.org
DTSTART:20240808T190000Z
DTEND:20240808T210000Z
DTSTAMP:20240329T173620Z
URL:https://www.code4outdoor.org/events/mountain-bike-ride-falcon-trail-lo
 op-4/
SUMMARY:Mountain Bike Ride-Falcon Trail Loop
DESCRIPTION:This is an incredible ride through the heart of the Air Force A
 cademy!  The loop is 13.6 miles with 1\,500 feet of elevation gain.  Arg
 uably some of the best single track in the Colorado Springs area!  Plenty
  of uphill and downhill to enjoy!  Bring a picture ID to get onto the Aca
 demy\, (North Entrance).  Here is a link to the Falcon Trail Loop\, showi
 ng where the ride will start and end.  Hope to see you there!\n\nDifficul
 ty rating:  Intermediate\n\nShoot us a text if you’re interested in go
 ing and we’ll be looking for you!  719-367-0112
ATTACH;FMTTYPE=image/jpeg:https://www.code4outdoor.org/wp-content/uploads/
 2024/03/Falcon-Trail-Loop.png
CATEGORIES:Mountain Biking
END:VEVENT
END:VCALENDAR