BEGIN:VCALENDAR
VERSION:2.0
PRODID:-//wp-events-plugin.com//7.2.3.1//EN
BEGIN:VEVENT
UID:183@code4outdoor.org
DTSTART:20250305T110000Z
DTEND:20250305T133000Z
DTSTAMP:20241111T185851Z
URL:https://www.code4outdoor.org/events/manitou-incline-2-2025-03-05/
SUMMARY:Manitou Incline
DESCRIPTION:Come join us for a hike up the Manitou Incline!  There are sev
 eral options for hiking up\, depending on what your up for: 1/4 hike\, 1/2
  hike\, or the full monte!  It’s as easy or as challenging as you want 
 it to be.  We meet at 11:00am at the registration shack at the base of th
 e Manitou Incline.  Shoot us a text at 719-367-0112 if you interested in 
 going.  We would love to have you!  No judgements!
ATTACH;FMTTYPE=image/jpeg:https://www.code4outdoor.org/wp-content/uploads/
 2023/12/Incline.jpg
END:VEVENT
END:VCALENDAR