BEGIN:VCALENDAR
VERSION:2.0
PRODID:-//wp-events-plugin.com//7.2.3.1//EN
BEGIN:VEVENT
UID:117@code4outdoor.org
DTSTART:20241205T010000Z
DTEND:20250508T030000Z
DTSTAMP:20241108T214338Z
URL:https://www.code4outdoor.org/event-recurring/indoor-climbing-cityrock/
SUMMARY:Indoor Climbing-CityRock
DESCRIPTION:Join us for an unforgettable afternoon of indoor climbing at Ci
 tyRock! With routes designed for every skill level\, from beginner to expe
 rt\, there’s something for everyone to enjoy and conquer. Plus\, as a sp
 ecial thank-you\, first responders climb for FREE! Bring your energy\, you
 r friends\, and a sense of adventure—it's time to test your limits\, mak
 e memories\, and have a blast on the walls. Let's climb together!
ATTACH;FMTTYPE=image/jpeg:https://www.code4outdoor.org/wp-content/uploads/
 2024/03/CityRock-Group-2.jpg
LOCATION:CityRock\, 21 N. Nevada Ave.\, Colorado Springs\, Colorado\, 80903
 \, United States
X-APPLE-STRUCTURED-LOCATION;VALUE=URI;X-ADDRESS=21 N. Nevada Ave.\, Colorad
 o Springs\, Colorado\, 80903\, United States;X-APPLE-RADIUS=100;X-TITLE=Ci
 tyRock:geo:0,0
END:VEVENT
END:VCALENDAR