BEGIN:VCALENDAR
VERSION:2.0
PRODID:-//wp-events-plugin.com//7.2.3.1//EN
BEGIN:VEVENT
UID:198@code4outdoor.org
DTSTART;VALUE=DATE:20250510
DTEND;VALUE=DATE:20250511
DTSTAMP:20250401T211618Z
URL:https://www.code4outdoor.org/events/gravel-ride-phantom-canyon-to-crip
 ple-creek/
SUMMARY:Gravel Ride-Phantom Canyon to Cripple Creek
DESCRIPTION:Get ready for the ride of a lifetime!\nJoin us on May 10th for 
 an epic adventure through Phantom Canyon! We’ll be riding 51 miles of di
 rt from Cañon City to Cripple Creek and back\, climbing over 5\,000 feet 
 along one of the most stunning routes in Colorado.\nWant the details? Chec
 k out the route on Strava: Phantom Canyon Ride\nThe best part? When we rol
 l into Cripple Creek\, we’ll celebrate with some well-earned treats at a
 n amazing bakery—because you deserve it!\nDon’t miss out on this chall
 enge. Come ride\, conquer\, and brag to your friends later!  Who’s in?
ATTACH;FMTTYPE=image/jpeg:https://www.code4outdoor.org/wp-content/uploads/
 2025/04/phantom.jpg
CATEGORIES:Mountain Biking
END:VEVENT
END:VCALENDAR