BEGIN:VCALENDAR
VERSION:2.0
PRODID:-//wp-events-plugin.com//7.2.3.1//EN
BEGIN:VEVENT
UID:203@code4outdoor.org
DTSTART:20250601T230000Z
DTEND:20250602T010000Z
DTSTAMP:20250401T220712Z
URL:https://www.code4outdoor.org/events/family-hike-north-cheyenne-canyon/
SUMMARY:Family Hike-North Cheyenne Canyon
DESCRIPTION:Come with us at the top of Cheyenne Canyon for an easy stroll/h
 ike over to the collapsed tunnel!  Join us on this family fun adventure!
   Please register if you are planning on going.
ATTACH;FMTTYPE=image/jpeg:https://www.code4outdoor.org/wp-content/uploads/
 2025/04/collapsed-tunnel.jpg
END:VEVENT
END:VCALENDAR